BEGIN:VCALENDAR
VERSION:2.0
PRODID:-//Nationalgallery.mk - ECPv4.9.14//NONSGML v1.0//EN
CALSCALE:GREGORIAN
METHOD:PUBLISH
X-WR-CALNAME:Nationalgallery.mk
X-ORIGINAL-URL:https://nationalgallery.mk
X-WR-CALDESC:Изложби за 
BEGIN:VTIMEZONE
TZID:Europe/Paris
BEGIN:DAYLIGHT
TZOFFSETFROM:+0100
TZOFFSETTO:+0200
TZNAME:CEST
DTSTART:20170326T010000
END:DAYLIGHT
BEGIN:STANDARD
TZOFFSETFROM:+0200
TZOFFSETTO:+0100
TZNAME:CET
DTSTART:20171029T010000
END:STANDARD
END:VTIMEZONE
BEGIN:VEVENT
DTSTART;TZID=Europe/Paris:20171222T200000
DTEND;TZID=Europe/Paris:20171222T230000
DTSTAMP:20260422T153933
CREATED:20151010T122339Z
LAST-MODIFIED:20180210T180139Z
UID:193-1513972800-1513983600@nationalgallery.mk
SUMMARY:Икони 14-20 век од колекцијата
DESCRIPTION:var hupso_services_c=new Array("twitter"\,"facebook_like"\,"facebook_send"\,"google"\,"email");var hupso_counters_lang = "en_US";var hupso_image_folder_url = "";var hupso_twitter_via="NGM_Skopje";var hupso_url_c="";var hupso_title_c="%D0%98%D0%BA%D0%BE%D0%BD%D0%B8%2014-20%20%D0%B2%D0%B5%D0%BA%20%D0%BE%D0%B4%20%D0%BA%D0%BE%D0%BB%D0%B5%D0%BA%D1%86%D0%B8%D1%98%D0%B0%D1%82%D0%B0";Ве информираме дека во Националната галерија на Македонија\, објект Чифте амам\, на 22 декември 2017 година (петок) во 19 часот ќе се отвори изложбата “ Икони XIV-XX век”.\nВо средината на дваесеттиот век во културното живеење во Македонија се јавува потреба македонската ликовна сцена да биде водена и поттикнувана од стручна институција во која би се презентирала и афирмирала македонската ликовна уметност. За таа цел била извршена адаптација\, односно конзервација и реставрација на Даут пашиниот амам и истиот ја добил функцијата на Уметничка галерија. Набрзо\, благодарение на ентузијазмот и професионалноста на стручниот тим во галеријата почнува да се формира и збирка на ликовни дела. Се правеле откупи од македонски\, српски\, хрватски\, словенечки\, црногорски и босански автори. Во исто време\, од страна на Археолошкиот музеј\, на галеријата и биле предадени педесеттина икони од кои еден дел биле изложени во тогашната поставка на галеријата а останатиот дел бил сместен во нејзините депоа. Тоа биле пред се икони донесени од тогаш неактивните цркви и манастири\, заради нивна безбедност и заштита. Останатиот дел биле откупи од приватни колекции.\nНа свеченото отварање на Галеријата во 1950 година била отворена и првата поставка на ликовни дела: икони од XIV – XIX век\, копии од најубавите примери на македонските фрески и ликовни дела од тогашната македонска и југословенска современа уметност.\nОвој податок зборува дека иконите хронолошки биле дел од поставката на галеријата од првите години од нејзиното постоење. Во текстот за каталогот издаден во 1950 година по повод отворањето на првата официјална поставка\, меѓу другото стои: “ На Илинден 1950 година\, македонските уметници по двегодишна подготовка\, удрија темел на првата Уметничка галерија во Скопје. Во Галеријата ги гледаме безимените наши зографи што со своите дела ги напишаа најубавите страници на нашата уметничка историја. Живеејќи под најтешки политички и економски услови во поробениот и заборавениот Балкан\, тие беа творци на најсилното што го даде човештвото во уметноста за полни четири столетија oд италијанската ренесанса и три столетија пред генијалниот Ѓото”. (Каталог\, Уметничка галерија Скопје\, Скопје\, 1950).\nДенес збирката на икони во Националната галерија на Македонија брои над педесеттина примероци од кои една икона датира од средината на XIV век\, една од XV-XVI век\, а останатите икони му припаѓаат на поствизантискиот период\, периодот на Преродбата (XIX) век\, и мал број икони од почетокот на XX век. Според стилската и хронолошката припадност\, најмногу примероци припаѓаат на поствизантискиот период и периодот на Преродбата.\nНа изложбата ќе бидат презентирани околу четириесет икони\, светогорски графики и копии од фрески од колекцијата на Националната галерија на Македонија и Музеј на Македонија. Изложбата на љубителите на уметноста им дава преглед на стилскиот и хронолошкиот развој на македонското иконописно творештво од XIV-XX.\nИзложбата ќе биде отворена до 30 – ти јануари 2018 година.\nСлавица Алексоска\, виш кустос\nНационална галерија на Македонија \nvar hupso_services_c=new Array("twitter"\,"facebook_like"\,"facebook_send"\,"google"\,"email");var hupso_counters_lang = "en_US";var hupso_image_folder_url = "";var hupso_twitter_via="NGM_Skopje";var hupso_url_c="";var hupso_title_c="%D0%98%D0%BA%D0%BE%D0%BD%D0%B8%2014-20%20%D0%B2%D0%B5%D0%BA%20%D0%BE%D0%B4%20%D0%BA%D0%BE%D0%BB%D0%B5%D0%BA%D1%86%D0%B8%D1%98%D0%B0%D1%82%D0%B0";
URL:https://nationalgallery.mk/event/ikoni-14-20-vek-od-kolektsijata/
LOCATION:Chifte Hamam – National Gallery of Macedonia\, Bitpazarska\, Skopje\, MK\, 1000\, Macedonia
ATTACH;FMTTYPE=image/jpeg:https://nationalgallery.mk/wp-content/uploads/2015/10/25507939_1586213788122050_8692118507873322757_n.jpg
END:VEVENT
END:VCALENDAR