BEGIN:VCALENDAR
VERSION:2.0
PRODID:-//Nationalgallery.mk - ECPv4.9.14//NONSGML v1.0//EN
CALSCALE:GREGORIAN
METHOD:PUBLISH
X-WR-CALNAME:Nationalgallery.mk
X-ORIGINAL-URL:https://nationalgallery.mk
X-WR-CALDESC:Изложби за 
BEGIN:VTIMEZONE
TZID:Europe/Paris
BEGIN:DAYLIGHT
TZOFFSETFROM:+0100
TZOFFSETTO:+0200
TZNAME:CEST
DTSTART:20180325T010000
END:DAYLIGHT
BEGIN:STANDARD
TZOFFSETFROM:+0200
TZOFFSETTO:+0100
TZNAME:CET
DTSTART:20181028T010000
END:STANDARD
END:VTIMEZONE
BEGIN:VEVENT
DTSTART;TZID=Europe/Paris:20180619T200000
DTEND;TZID=Europe/Paris:20180619T220000
DTSTAMP:20260422T154031
CREATED:20151010T072643Z
LAST-MODIFIED:20180210T175329Z
UID:142-1529438400-1529445600@nationalgallery.mk
SUMMARY:Изложба - Адем Кастрати
DESCRIPTION:var hupso_services_c=new Array("twitter"\,"facebook_like"\,"facebook_send"\,"google"\,"email");var hupso_counters_lang = "en_US";var hupso_image_folder_url = "";var hupso_twitter_via="NGM_Skopje";var hupso_url_c="";var hupso_title_c="%D0%98%D0%B7%D0%BB%D0%BE%D0%B6%D0%B1%D0%B0%20-%20%D0%90%D0%B4%D0%B5%D0%BC%20%D0%9A%D0%B0%D1%81%D1%82%D1%80%D0%B0%D1%82%D0%B8";Ретроспективна изложба на Адем Кастрати по повод 70 години од основањето на Националната галерија на Македонија\, на 19 јуни 2018 година\, во Даут пашиниот амам. \nvar hupso_services_c=new Array("twitter"\,"facebook_like"\,"facebook_send"\,"google"\,"email");var hupso_counters_lang = "en_US";var hupso_image_folder_url = "";var hupso_twitter_via="NGM_Skopje";var hupso_url_c="";var hupso_title_c="%D0%98%D0%B7%D0%BB%D0%BE%D0%B6%D0%B1%D0%B0%20-%20%D0%90%D0%B4%D0%B5%D0%BC%20%D0%9A%D0%B0%D1%81%D1%82%D1%80%D0%B0%D1%82%D0%B8";
URL:https://nationalgallery.mk/event/izlozhba-adem-kastrati/
LOCATION:Daut Pasha Hamam\, Krushevska 1A\, Skopje\, 1000\, Macedonia
ATTACH;FMTTYPE=image/jpeg:https://nationalgallery.mk/wp-content/uploads/2015/10/adem-kastrati.jpg
END:VEVENT
END:VCALENDAR