BEGIN:VCALENDAR
VERSION:2.0
PRODID:-//Nationalgallery.mk - ECPv4.9.14//NONSGML v1.0//EN
CALSCALE:GREGORIAN
METHOD:PUBLISH
X-WR-CALNAME:Nationalgallery.mk
X-ORIGINAL-URL:https://nationalgallery.mk
X-WR-CALDESC:Изложби за 
BEGIN:VTIMEZONE
TZID:Europe/Paris
BEGIN:DAYLIGHT
TZOFFSETFROM:+0100
TZOFFSETTO:+0200
TZNAME:CEST
DTSTART:20180325T010000
END:DAYLIGHT
BEGIN:STANDARD
TZOFFSETFROM:+0200
TZOFFSETTO:+0100
TZNAME:CET
DTSTART:20181028T010000
END:STANDARD
END:VTIMEZONE
BEGIN:VEVENT
DTSTART;TZID=Europe/Paris:20181024T200000
DTEND;TZID=Europe/Paris:20181124T180000
DTSTAMP:20260420T220447
CREATED:20180918T083829Z
LAST-MODIFIED:20180927T074914Z
UID:9832-1540411200-1543082400@nationalgallery.mk
SUMMARY:Ретроспективна изложба на Драган Попоски - Дада
DESCRIPTION:var hupso_services_c=new Array("twitter"\,"facebook_like"\,"facebook_send"\,"google"\,"email");var hupso_counters_lang = "en_US";var hupso_image_folder_url = "";var hupso_twitter_via="NGM_Skopje";var hupso_url_c="";var hupso_title_c="%D0%A0%D0%B5%D1%82%D1%80%D0%BE%D1%81%D0%BF%D0%B5%D0%BA%D1%82%D0%B8%D0%B2%D0%BD%D0%B0%20%D0%B8%D0%B7%D0%BB%D0%BE%D0%B6%D0%B1%D0%B0%20%D0%BD%D0%B0%20%D0%94%D1%80%D0%B0%D0%B3%D0%B0%D0%BD%20%D0%9F%D0%BE%D0%BF%D0%BE%D1%81%D0%BA%D0%B8%20-%20%D0%94%D0%B0%D0%B4%D0%B0";Националната галерија на Македонија\, во рамките на одбележувањето на 70 годишнината од своето основање\, ја најавува ретроспективната изложба на македонскиот скулптор Драган Попоски Дада.\nИзложбата ќе биде отворена на 24 октомври во 20 часот\, во објектот Даут пашин амам. \nДраган Попоски Дада е роден во Прилеп 1933 година. Академија за ликовни уметности (1961) и постдипломски студии (1964) завршил во Белград\, во класата на проф. Јован Кратохвил. Работел како професор на Факултетот за ликовни уметности во Скопје. Студиски патувања остварил во Грција\, Италија\, Англија\, Франција\, Германија\, Полска\, САД. Од 1965 година навака\, реализирал повеќе самостојни изложби и учествувал на бројни групни претставувања во земјава и во странство. Автор е на повеќе монументални дела и е добитник на повеќе награди\, меѓу кои во 1981 година највисоката републичка награда „11 Октомври“. \nУметничкиот развоен пат на Драган Попоски – Дада е долг\, со повеќе развојни творечки етапи. Неговите облиците имаат конкретни инспиративни извори во природата и нештата што го опкружуваат\, предадени се во вид на лесна стилизација\, преку помалку или повеќе асоцијативни форми кои ги селектираат деталите до степен на минимализирање на нивната асоцијацијативност. Од друга страна\, пак\, неговите фигури се исто така суптилно стилизирани\, со монументално чувство во внимателното градење на односот на масите. \nИзложбата ќе содржи скулптури и цртежи од сите творечки периоди на значајниот македонски уметник Драган Попоски Дада. Делата кои ќе бидат претставени се сопственост на авторот\, на повеќе институции (НУ Национална галерија на Македонија\, НУ Музеј на современата уметност\, НУ Музеј на Македонија\, Центар за современа ликовна уметност – Прилеп\, СОЗР при Влада на РМ и др.)\, како и на значаен број приватни сопственици. Изложбата ќе биде отворена до 24.11.2018 година. \nvar hupso_services_c=new Array("twitter"\,"facebook_like"\,"facebook_send"\,"google"\,"email");var hupso_counters_lang = "en_US";var hupso_image_folder_url = "";var hupso_twitter_via="NGM_Skopje";var hupso_url_c="";var hupso_title_c="%D0%A0%D0%B5%D1%82%D1%80%D0%BE%D1%81%D0%BF%D0%B5%D0%BA%D1%82%D0%B8%D0%B2%D0%BD%D0%B0%20%D0%B8%D0%B7%D0%BB%D0%BE%D0%B6%D0%B1%D0%B0%20%D0%BD%D0%B0%20%D0%94%D1%80%D0%B0%D0%B3%D0%B0%D0%BD%20%D0%9F%D0%BE%D0%BF%D0%BE%D1%81%D0%BA%D0%B8%20-%20%D0%94%D0%B0%D0%B4%D0%B0";
URL:https://nationalgallery.mk/event/retrospektivna-izlozhba-na-dragan-poposki-dada/
LOCATION:Daut Pasha Hamam\, Krushevska 1A\, Skopje\, 1000\, Macedonia
ATTACH;FMTTYPE=image/jpeg:https://nationalgallery.mk/wp-content/uploads/2018/09/41961986_1918829198193839_5170324992914620416_n.jpg
END:VEVENT
END:VCALENDAR