BEGIN:VCALENDAR
VERSION:2.0
PRODID:-//Nationalgallery.mk - ECPv4.9.14//NONSGML v1.0//EN
CALSCALE:GREGORIAN
METHOD:PUBLISH
X-WR-CALNAME:Nationalgallery.mk
X-ORIGINAL-URL:https://nationalgallery.mk
X-WR-CALDESC:Изложби за 
BEGIN:VTIMEZONE
TZID:Europe/Paris
BEGIN:DAYLIGHT
TZOFFSETFROM:+0100
TZOFFSETTO:+0200
TZNAME:CEST
DTSTART:20180325T010000
END:DAYLIGHT
BEGIN:STANDARD
TZOFFSETFROM:+0200
TZOFFSETTO:+0100
TZNAME:CET
DTSTART:20181028T010000
END:STANDARD
END:VTIMEZONE
BEGIN:VEVENT
DTSTART;VALUE=DATE:20180130
DTEND;VALUE=DATE:20180215
DTSTAMP:20260420T234816
CREATED:20151010T043500Z
LAST-MODIFIED:20180211T233222Z
UID:134-1517274000-1518569999@nationalgallery.mk
SUMMARY:Уметнички настан со (за) Петре Николоски
DESCRIPTION:var hupso_services_c=new Array("twitter"\,"facebook_like"\,"facebook_send"\,"google"\,"email");var hupso_counters_lang = "en_US";var hupso_image_folder_url = "";var hupso_twitter_via="NGM_Skopje";var hupso_url_c="";var hupso_title_c="%D0%A3%D0%BC%D0%B5%D1%82%D0%BD%D0%B8%D1%87%D0%BA%D0%B8%20%D0%BD%D0%B0%D1%81%D1%82%D0%B0%D0%BD%20%D1%81%D0%BE%20%28%D0%B7%D0%B0%29%20%D0%9F%D0%B5%D1%82%D1%80%D0%B5%20%D0%9D%D0%B8%D0%BA%D0%BE%D0%BB%D0%BE%D1%81%D0%BA%D0%B8";Почитувани\, \nНационалната галерија на Македонија во рамки на овогодинешната програма ќе ја организира изложбата на Петре Николоски насловена БЕСКОНЕЧНОСТ (Infinity) во текот на месец ноември 2018 година. По тој повод\, предвидена е и пропратна активност\, со цел собирање на „граѓа“ за градење на просторните инсталации и скулптури од 30 јануари до 13 февруари во Чифте амам. \n„ … Книгата / Библиотеката ќе биди метафора и исто така примарен материјал во моделирањето на овие две (6 и 4 метри високи скулптури) во форма на обелиск чиј резултат ќе зависи од алтроистичкиот придонес на авторите на пишаниот збор и оние за кои книгата е поглед во вистината.“ \nКако дел од долгорочниот проект „Кожата на Прилепското Поднебје“ минативе неколку години со Градската Библиотека Борка Талески – Прилеп Николоски работел на планирање на ликовни дела инспирирани од Книгата / Библиотеката на кои размислувања се приклучи Националната и Универзитетска Библиотека Св. Климент Охридски – Скопје\, а финалниот резултат ќе биди изложен во Даут-пашин и Чифте Амам во организација на Националната Галерија на Македонија. \nСо таа цел ја испраќаме оваа отворена покана до писателите\, во широка смисла на зборот\, исто така и до членовите на научни\, културни и образовни институции и оние кои самостојно делуваат и преку пишаниот збор ја дефинираат мислата\, вклучувајќи педагози и читатели\, за ваш придонес во реконструкцијава на сознанијата за менталната мапа на македонскиот и прилепскиот современ пејсаж. \nПо примерот на ова искуство ќе се направат слични соработки со селектирани меѓународни библиотеки и културни институции! \nОбјаснување: \nПридонесот на авторите на пишаниот збор: по можност да донираат без ограничување и цензура по два примероци од исто објавено дело\, а придонесот на читателите ќе биди по една книга исто така без количинско ограничување и цензура. Примероците ќе бидат трајно изложени на полицата за книги (објаснето подолу) додека во моделирањето на скулптурата волуменот на овие книга ќе биде заменет со идентични дрвени копии. \nЗаради комплексноста: \nОд 30 јануари до 13 февруари во Чифте Амам во Скопје ќе се одржи изложбата ‘Приватно –Јавно’\, на која ќе биде представена идејата за делата ‘Бесконечност’\, каде што покрај редовните посетители на галеријата ќе бидат поканети представници на издавачките куќи\, и сите погоре спомнати преку изложените макети и скици ќе го видат нивниот потенцијален алтруистички придонес во овие колективни ликовни дела. \nЗаради несебичниот придонес на сите вклучени во изведбата\, овие дела ќе бидат отстапени на неограничено користење на Националната Галерија\, Прилепската и Националната и Универзитетска Библиотека во Скопје. \nТехничко појаснување: \nДелата БЕСКОНЕЧНОСТ ќе бидат сочинети од три единици од кои во моделирањето на скулптурата ќе биде употребена едната книга на авторите\, а другата ќе биди редоследно поставена на специјално направената полица\, а во урамен графички приказ ќе бидат редоследно напишани насловите на книгите\, имињата на нивните автори и донаторите. \nЗа собирното место за вашиот алтруистички придонес ќе бидете информирани за време на изложбата ‘Приватно-Јавно’ во Чифте амам. \nПример за неколку дела кои биле резултат на слични соработки: \nСоцијално еколошката состојба на ‘Пејсажот што ме опкружува’ е во центарот на творештвото на Петре Николоски и често е резултат на соработка со професионалци но и личности кои по прв пат се соочуваат со ликовно дефинирање на мислата. \n  \nvar hupso_services_c=new Array("twitter"\,"facebook_like"\,"facebook_send"\,"google"\,"email");var hupso_counters_lang = "en_US";var hupso_image_folder_url = "";var hupso_twitter_via="NGM_Skopje";var hupso_url_c="";var hupso_title_c="%D0%A3%D0%BC%D0%B5%D1%82%D0%BD%D0%B8%D1%87%D0%BA%D0%B8%20%D0%BD%D0%B0%D1%81%D1%82%D0%B0%D0%BD%20%D1%81%D0%BE%20%28%D0%B7%D0%B0%29%20%D0%9F%D0%B5%D1%82%D1%80%D0%B5%20%D0%9D%D0%B8%D0%BA%D0%BE%D0%BB%D0%BE%D1%81%D0%BA%D0%B8";
URL:https://nationalgallery.mk/event/umetnichki-nastan-so-za-petre-nikolosk/
LOCATION:Chifte Hamam – National Gallery of Macedonia\, Bitpazarska\, Skopje\, MK\, 1000\, Macedonia
ATTACH;FMTTYPE=image/jpeg:https://nationalgallery.mk/wp-content/uploads/2015/10/27024244_1623850521025043_1966729170429933237_o.jpg
END:VEVENT
END:VCALENDAR